BEGIN:VCALENDAR
VERSION:2.0
PRODID:-//David Burke Tavern - ECPv6.15.20//NONSGML v1.0//EN
CALSCALE:GREGORIAN
METHOD:PUBLISH
X-ORIGINAL-URL:https://davidburketavern.com
X-WR-CALDESC:Events for David Burke Tavern
REFRESH-INTERVAL;VALUE=DURATION:PT1H
X-Robots-Tag:noindex
X-PUBLISHED-TTL:PT1H
BEGIN:VTIMEZONE
TZID:America/New_York
BEGIN:DAYLIGHT
TZOFFSETFROM:-0500
TZOFFSETTO:-0400
TZNAME:EDT
DTSTART:20250309T070000
END:DAYLIGHT
BEGIN:STANDARD
TZOFFSETFROM:-0400
TZOFFSETTO:-0500
TZNAME:EST
DTSTART:20251102T060000
END:STANDARD
BEGIN:DAYLIGHT
TZOFFSETFROM:-0500
TZOFFSETTO:-0400
TZNAME:EDT
DTSTART:20260308T070000
END:DAYLIGHT
BEGIN:STANDARD
TZOFFSETFROM:-0400
TZOFFSETTO:-0500
TZNAME:EST
DTSTART:20261101T060000
END:STANDARD
BEGIN:DAYLIGHT
TZOFFSETFROM:-0500
TZOFFSETTO:-0400
TZNAME:EDT
DTSTART:20270314T070000
END:DAYLIGHT
BEGIN:STANDARD
TZOFFSETFROM:-0400
TZOFFSETTO:-0500
TZNAME:EST
DTSTART:20271107T060000
END:STANDARD
END:VTIMEZONE
BEGIN:VEVENT
DTSTART;TZID=America/New_York:20260422T190000
DTEND;TZID=America/New_York:20260422T210000
DTSTAMP:20260423T013805
CREATED:20260328T174737Z
LAST-MODIFIED:20260328T203020Z
UID:9002-1776884400-1776891600@davidburketavern.com
SUMMARY:4/22 Taste of Italy Wine Dinner
DESCRIPTION:“Taste of Italy” David Burke Tavern\nFive Course Dinner Pairing 6 Wines\n7pm seated dinner\n$135 per person (+tax & service)\nDavid Burke Tavern is excited to present the next wine dinner in our series for Spring 2026 – a chance to meet fellow wine lovers and try Chef’s creations not normally on the menu. \nExperience David Burke Tavern Chef’s Menu paired with gorgeous Italian wine selections. Six wines will be poured\, made from different grape varietals presented with tasting notes at each course. \n\n“It’s like having dinner in my home… Intimate\, fun\, relaxing and delicious! Great connections\, Q & A session and some laughs!”\n– Chef David Burke\n\nMENU SUBJECT TO CHANGE
URL:https://davidburketavern.com/event/4-22-taste-of-italy-wine-dinner/
LOCATION:David Burke Tavern\, 135 E. 62nd Street\, New York City\, NY\, 10065\, United States
CATEGORIES:DB Tavern Wine Dinners
ATTACH;FMTTYPE=image/jpeg:https://davidburketavern.com/dbt/wp-content/uploads/2023/04/DBT-taste-of-itlaywine-dinner-4-22-26.jpg
ORGANIZER;CN="David Burke Tavern":MAILTO:info@davidburketavern.com
END:VEVENT
BEGIN:VEVENT
DTSTART;TZID=America/New_York:20260424T180000
DTEND;TZID=America/New_York:20260424T210000
DTSTAMP:20260423T013805
CREATED:20260327T025255Z
LAST-MODIFIED:20260328T163646Z
UID:8988-1777053600-1777064400@davidburketavern.com
SUMMARY:4/24 Murder Mystery Dinner at David Burke Tavern
DESCRIPTION:Friday\, April 24\nMurder Mystery Dinner\n3-Course Prix Fixe\n& LIVE Mystery Experience\npresented by Keith & Margo’s MURDER MYSTERY Nationwide\nThe DINING ROOM at David Burke Tavern – NYC\n6 – 9pm (Doors at 6pm Sharp)\n$100 per person\n(not including tax\, gratuity and alcohol) \nDavid Burke Tavern invites you to the Premiere of Murder Mystery Dinner! \nKeep your secrets and motives close to the vest – are you the Lead Detective or the #1 Suspect?\nJoin us for an immersive culinary experience in which you\, the guest\, becomes a murder mystery character. Throughout the evening\, the carefully crafted plot unfolds\, course by course\, clue by clue\, culminating in a dramatic reveal – the fate of the victim(s) and WhoDunit will be exposed! David Burke Tavern’s artful townhouse sets the scene for this delicious recipe of elevated spring dishes mixed with intrigue and sophistication. \nThis event features Communal Seating for the purpose of our shared Mystery Solving Experience. \nItems Subject to Change due to seasonally available ingredients and market availability. \nMENU\n \nAbout Keith & Margo\nKeith O’Leary and Margo Morrison\, creators of Murder Mystery Weekend and Murder Mystery USA\, are award winning writers\, producers\, and directors with extensive backgrounds in motion picture\, television\, and theatrical production. Since 1985 they have been responsible for over 7000 live and virtual mystery productions worldwide and have been featured in the print and television media in over 35 different countries. \nLabeled as “The Masterminds of the genre” by the media\, their Murder Mystery Weekends and Murder Mystery Events have been co-hosted by such luminaries as Mary Higgins Clark\, Peter Falk\, and Dr. Henry Lee\, and have been featured on Lifestyles of the Rich & Famous as well as all major television networks. \nWith offices on both the East and West Coast they still travel extensively\, producing weekends\, dinners\, private parties\, a unique CSI team-building experience\, as well as corporate events for virtually the entire Fortune 500. The couple has been married since they started the business\, have 3 grown children and after living for decades in Los Angeles now reside in a “Cabot Cove” setting on the coast of Maine.
URL:https://davidburketavern.com/event/4-24-murder-mystery-dinner-at-david-burke-tavern/
LOCATION:David Burke Tavern\, 135 E. 62nd Street\, New York City\, NY\, 10065\, United States
CATEGORIES:DB Tavern Events,Murder Mystery Dinner
ATTACH;FMTTYPE=image/jpeg:https://davidburketavern.com/dbt/wp-content/uploads/2026/03/TAVERN-Murder-Mystery-Dinner_4-24-26.jpg
ORGANIZER;CN="David Burke Tavern":MAILTO:info@davidburketavern.com
END:VEVENT
BEGIN:VEVENT
DTSTART;TZID=America/New_York:20260430T190000
DTEND;TZID=America/New_York:20260430T213000
DTSTAMP:20260423T013805
CREATED:20260422T125509Z
LAST-MODIFIED:20260422T125726Z
UID:9128-1777575600-1777584600@davidburketavern.com
SUMMARY:4/30 Raventos Wine Dinner
DESCRIPTION:BANFI + David Burke Tavern\nFive Course Dinner Pairing 6 Wines\nThursday\, May 7th\n7pm seated dinner\n$135 per person (+tax & service)\nDavid Burke Tavern is excited to present the next wine dinner in our series for Spring 2026 – a chance to meet fellow wine lovers and try Chef’s creations not normally on the menu. \nRaventós Codorníu\, Spain’s oldest producer of Wines and Cavas. The company has a history spanning over five centuries\, dating back to 1551. Experience David Burke Tavern Chef’s Menu paired with delectable Spanish wine selections. Six wines will be poured\, made from different grape varietals presented with tasting notes at each course. \n\n“It’s like having dinner in my home… Intimate\, fun\, relaxing and delicious! Great connections\, Q & A session and some laughs!”\n– Chef David Burke\n\nMENU SUBJECT TO CHANGE
URL:https://davidburketavern.com/event/4-30-raventos-wine-dinner/
LOCATION:David Burke Tavern\, 135 E. 62nd Street\, New York City\, NY\, 10065\, United States
CATEGORIES:DB Tavern Wine Dinners
ATTACH;FMTTYPE=image/jpeg:https://davidburketavern.com/dbt/wp-content/uploads/2023/04/DBT-Ravntos-dinner-4-30-26-1080a.jpg
ORGANIZER;CN="David Burke Tavern":MAILTO:info@davidburketavern.com
END:VEVENT
BEGIN:VEVENT
DTSTART;TZID=America/New_York:20260507T190000
DTEND;TZID=America/New_York:20260507T210000
DTSTAMP:20260423T013805
CREATED:20260420T214709Z
LAST-MODIFIED:20260420T215144Z
UID:9099-1778180400-1778187600@davidburketavern.com
SUMMARY:5/7 BANFI Wine Dinner
DESCRIPTION:BANFI + David Burke Tavern\nFive Course Dinner Pairing 6 Wines\nThursday\, May 7th\n7pm seated dinner\n$135 per person (+tax & service)\nDavid Burke Tavern is excited to present the next wine dinner in our series for Spring 2026 – a chance to meet fellow wine lovers and try Chef’s creations not normally on the menu. \nExperience David Burke Tavern Chef’s Menu paired with gorgeous Italian wine selections. Six wines will be poured\, made from different grape varietals presented with tasting notes at each course. \n\n“It’s like having dinner in my home… Intimate\, fun\, relaxing and delicious! Great connections\, Q & A session and some laughs!”\n– Chef David Burke\n\nMENU SUBJECT TO CHANGE
URL:https://davidburketavern.com/event/5-7-banfi-wine-dinner/
LOCATION:David Burke Tavern\, 135 E. 62nd Street\, New York City\, NY\, 10065\, United States
CATEGORIES:DB Tavern Wine Dinners
ATTACH;FMTTYPE=image/jpeg:https://davidburketavern.com/dbt/wp-content/uploads/2026/04/DBT-BANFI-dinner-5-07-26-1080.jpg
ORGANIZER;CN="David Burke Tavern":MAILTO:info@davidburketavern.com
END:VEVENT
END:VCALENDAR